BEGIN:VCALENDAR
VERSION:2.0
PRODID:-//Sydney Cohousing - ECPv6.15.20//NONSGML v1.0//EN
CALSCALE:GREGORIAN
METHOD:PUBLISH
X-ORIGINAL-URL:https://sydneycohousing.au
X-WR-CALDESC:Events for Sydney Cohousing
REFRESH-INTERVAL;VALUE=DURATION:PT1H
X-Robots-Tag:noindex
X-PUBLISHED-TTL:PT1H
BEGIN:VTIMEZONE
TZID:Australia/Sydney
BEGIN:STANDARD
TZOFFSETFROM:+1100
TZOFFSETTO:+1000
TZNAME:AEST
DTSTART:20240406T160000
END:STANDARD
BEGIN:DAYLIGHT
TZOFFSETFROM:+1000
TZOFFSETTO:+1100
TZNAME:AEDT
DTSTART:20241005T160000
END:DAYLIGHT
BEGIN:STANDARD
TZOFFSETFROM:+1100
TZOFFSETTO:+1000
TZNAME:AEST
DTSTART:20250405T160000
END:STANDARD
BEGIN:DAYLIGHT
TZOFFSETFROM:+1000
TZOFFSETTO:+1100
TZNAME:AEDT
DTSTART:20251004T160000
END:DAYLIGHT
BEGIN:STANDARD
TZOFFSETFROM:+1100
TZOFFSETTO:+1000
TZNAME:AEST
DTSTART:20260404T160000
END:STANDARD
BEGIN:DAYLIGHT
TZOFFSETFROM:+1000
TZOFFSETTO:+1100
TZNAME:AEDT
DTSTART:20261003T160000
END:DAYLIGHT
END:VTIMEZONE
BEGIN:VEVENT
DTSTART;TZID=Australia/Sydney:20251102T150000
DTEND;TZID=Australia/Sydney:20251102T180000
DTSTAMP:20260421T232307
CREATED:20251024T100123Z
LAST-MODIFIED:20251025T224512Z
UID:397-1762095600-1762106400@sydneycohousing.au
SUMMARY:Cohousing social @ Lennox Street Studios open day
DESCRIPTION:Join us for a visit to Lennox Street Studios annual open weekend\, followed by drinks at the nearby Carlisle Castle Hotel. \n\n\n\nEvery year\, Lennox Street opens its doors to allow the community in to visit. There will be a lot to see and discuss\, as well as live music we are told! See more about the event on their Facebook page. \n\n\n\nOur social events are a great chance to meet others interested in collaborative housing\, hear some updates about what we’ve been working on\, and in this case\, to see awesome local art! \n\n\n\nWe’ll be at Lennox Street 3-5pm\, then the Carlisle 5pm onwards. We’ll send contact details out to attendees closer to the event\, in case you have trouble finding us! \n\n\n\nRSVP on Meetup\, on Facebook\, or by email to hello@sydneycohousing.au. Looking forward to seeing you there!
URL:https://sydneycohousing.au/event/cohousing-social-lennox-street-studios-open-day/
LOCATION:Lennox Street Studios\, 111 Lennox Street\, Newtown\, NSW\, 2042\, Australia
CATEGORIES:Social events
ATTACH;FMTTYPE=image/jpeg:https://sydneycohousing.au/wp-content/uploads/2025/10/lennox-street-studios1.jpg
END:VEVENT
BEGIN:VEVENT
DTSTART;TZID=Australia/Sydney:20251110T193000
DTEND;TZID=Australia/Sydney:20251110T210000
DTSTAMP:20260421T232307
CREATED:20251028T081724Z
LAST-MODIFIED:20251028T081726Z
UID:403-1762803000-1762808400@sydneycohousing.au
SUMMARY:Annual General Meeting (online)
DESCRIPTION:Members are invited to join our Annual General Meeting online via Zoom. Please contact hello@sydneycohousing.au for details if you have not already received them! \n\n\n\nThe AGM is a special meeting where we perform the following tasks: \n\n\n\n\napproving the minutes of the previous AGM\n\n\n\nvoting on new members of the Committee\n\n\n\nvoting on any motions which require amending the Constitution\n\n\n\nhearing the annual financial report and reports from other Committee members\n\n\n\n\nIf you want to join the Committee (as a general member or as one of the officers)\, you’ll need to nominate yourself and have another member second you. This can be arranged during the AGM\, but in the interests of time\, please try to organise it ahead! \n\n\n\nOfficer positions: \n\n\n\n\nSecretary\n\n\n\nPresident\n\n\n\nVice President\n\n\n\nTreasurer
URL:https://sydneycohousing.au/event/annual-general-meeting-online/
CATEGORIES:Committee Meetings
END:VEVENT
BEGIN:VEVENT
DTSTART;TZID=Australia/Sydney:20251118T183000
DTEND;TZID=Australia/Sydney:20251118T200000
DTSTAMP:20260421T232307
CREATED:20251028T082003Z
LAST-MODIFIED:20251028T082004Z
UID:405-1763490600-1763496000@sydneycohousing.au
SUMMARY:Ecovillages - Incubators for Sustainable Transformation
DESCRIPTION:This event is not run by Sydney Cohousing\, but is promoted here for your interest: \n\n\n\nAn opportunity to hear what the landscape for eco-living in communities currently looks like in Australia and what the potential is to get involved – either existing communities or the pioneers creating new communities and also those who are retro-fitting old buildings to regenerate communities.  Join Narara Ecovillage member\, Tanya Mottl and Trudy Juriansz of the Ecovillage Network Australia as they host a panel of movers and shakers\, innovating ways to create a regenerative future. \n\n\n\nhttps://events.humanitix.com/ecovillages-incubators-for-sustainable-transformation-altercop-30-day-2
URL:https://sydneycohousing.au/event/ecovillages-incubators-for-sustainable-transformation/
CATEGORIES:Friends of Sydney Cohousing
END:VEVENT
END:VCALENDAR