BEGIN:VCALENDAR
VERSION:2.0
PRODID:-//Sydney Cohousing - ECPv6.15.20//NONSGML v1.0//EN
CALSCALE:GREGORIAN
METHOD:PUBLISH
X-WR-CALNAME:Sydney Cohousing
X-ORIGINAL-URL:https://sydneycohousing.au
X-WR-CALDESC:Events for Sydney Cohousing
REFRESH-INTERVAL;VALUE=DURATION:PT1H
X-Robots-Tag:noindex
X-PUBLISHED-TTL:PT1H
BEGIN:VTIMEZONE
TZID:Australia/Sydney
BEGIN:STANDARD
TZOFFSETFROM:+1100
TZOFFSETTO:+1000
TZNAME:AEST
DTSTART:20240406T160000
END:STANDARD
BEGIN:DAYLIGHT
TZOFFSETFROM:+1000
TZOFFSETTO:+1100
TZNAME:AEDT
DTSTART:20241005T160000
END:DAYLIGHT
BEGIN:STANDARD
TZOFFSETFROM:+1100
TZOFFSETTO:+1000
TZNAME:AEST
DTSTART:20250405T160000
END:STANDARD
BEGIN:DAYLIGHT
TZOFFSETFROM:+1000
TZOFFSETTO:+1100
TZNAME:AEDT
DTSTART:20251004T160000
END:DAYLIGHT
BEGIN:STANDARD
TZOFFSETFROM:+1100
TZOFFSETTO:+1000
TZNAME:AEST
DTSTART:20260404T160000
END:STANDARD
BEGIN:DAYLIGHT
TZOFFSETFROM:+1000
TZOFFSETTO:+1100
TZNAME:AEDT
DTSTART:20261003T160000
END:DAYLIGHT
END:VTIMEZONE
BEGIN:VEVENT
DTSTART;TZID=Australia/Sydney:20250810T143000
DTEND;TZID=Australia/Sydney:20250810T160000
DTSTAMP:20260422T043052
CREATED:20250802T061843Z
LAST-MODIFIED:20250802T062013Z
UID:389-1754836200-1754841600@sydneycohousing.au
SUMMARY:An afternoon at the Peach Palace
DESCRIPTION:Sydney Cohousing invites you to join us for an intimate afternoon session at the “Peach Palace”\, a small cohousing community in Marrickville. \n\n\n\n\n“One group of six friends in Sydney’s inner west have created their own solution to the loss of community\, by buying a striking three-storey manor\, subdivided into three apartments with a large shared garden\, together\, affectionately referred to as the “Peach Palace” by its occupants.”https://www.smh.com.au/lifestyle/life-and-relationships/the-friends-coming-up-with-a-novel-solution-to-the-housing-crisis-20240521-p5jfdk.html \n\n\n\n\nWe will tour the Palace and hear a talk on how they managed to do it – we’ll cover the process\, legals\, finance\, and there will be a chance for Q&A. \n\n\n\nAs this is a small location we are offering this event to Sydney Cohousing members first\, and places will be limited. \n\n\n\nWhen: Sunday August 10\, 2:30pm – 4:00pm \n\n\n\nWhere: Glen Street\, Marrickville (meeting location will be provided to attendees) \n\n\n\nRSVP essential by email to hello@sydneycohousing.au
URL:https://sydneycohousing.au/event/an-afternoon-at-the-peach-palace/
CATEGORIES:Social events
END:VEVENT
BEGIN:VEVENT
DTSTART;TZID=Australia/Sydney:20250824T100000
DTEND;TZID=Australia/Sydney:20250824T160000
DTSTAMP:20260422T043052
CREATED:20250726T191024Z
LAST-MODIFIED:20250816T063827Z
UID:384-1756029600-1756051200@sydneycohousing.au
SUMMARY:Inner West Co-ops Tour
DESCRIPTION:Sydney Co-housing invites you to join us on a walking tour of three Inner West housing co-ops. Come along to see co-operative living in action! \n\n\n\nWe will learn about each co-op’s history\, their operations and meet some residents. This tour is a fantastic opportunity to learn about\, and from\, real working communities.  \n\n\n\nPlease feel free to join us for all or part of the day.  \n\n\n\nWhen: Sunday 24 August 10am-4pm (see below for detailed schedule) \n\n\n\nCost: $5 \n\n\n\nRegistration: https://events.humanitix.com/housing-co-ops-tour-inner-west \n\n\n\nContact: we will email contact details to participants the day before \n\n\n\nTour Schedule\n\n\n\n1. Emoh Ruo\, Erskineville? 10am – 11am? Meet corner of Albert and John streets at 9:55am \n\n\n\n?10min walk \n\n\n\n2. Stucco\, Newtown? 11:15am – 12:50pm? Meet corner of Wilson and Randle streets at 11:10am \n\n\n\n?10min walk \n\n\n\n3. Lunch Break!? 1pm-2:30pm? Brewtown 1pm (feel free to eat anywhere\, but this is our rendezvous) \n\n\n\n?40min walk \n\n\n\n4. Ningana\, Annandale? 3:20pm – 4pm? Meet corner of Annandale and Collins streets 3:15pm \n\n\n\nAbout the Co-ops\n\n\n\nStucco \n\n\n\nStucco provides affordable\, self-managed student housing for low-income Sydney University students. Referred to as ‘Stuccwits’\, its forty\, ever-changing\, residents continually shape and reshape this highly democratic co-operative.  \n\n\n\nEmoh Ruo \n\n\n\nEmoh Ruo has been a working co-op since 1995\, when it was one of the inaugural projects of the Department of Housing’s Local Government and Community Housing scheme. Residents come from all walks of life\, with many working in the arts. \n\n\n\nNingana \n\n\n\nFounded by squatters who discovered and lived on the premises\, the Ningana Housing Collective is one of the few housing organisations that provide affordable housing specifically for single people on low to moderate incomes.
URL:https://sydneycohousing.au/event/inner-west-co-ops-tour/
CATEGORIES:Social events
ATTACH;FMTTYPE=image/jpeg:https://sydneycohousing.au/wp-content/uploads/2025/07/Sydney-Cohousing-Co-op-Tour-August-2025.jpg
END:VEVENT
END:VCALENDAR